BEGIN:VCALENDAR
VERSION:2.0
PRODID:-//IBSARO - Institut behaviorálních studií s.r.o.
CALSCALE:GREGORIAN
METHOD:PUBLISH
X-WR-CALNAME:IBSARO - Institut behaviorálních studií s.r.o.
X-ORIGINAL-URL:https://ibsaro.cz/event/prednaska-moc-a-bezmoc-vychovy-fm/
X-WR-CALDESC:Frýdek Místek &#8211; přednáška &#8220;Moc a bezmoc výchovy&#8221;
BEGIN:VEVENT
DTSTART:20220505T173000
DTEND:20220505T193000
SUMMARY:Frýdek Místek &#8211; přednáška &#8220;Moc a bezmoc výchovy&#8221;
DESCRIPTION:
LOCATION:Nové scény Vlast, Hlavní tř. 112, 738 01 Frýdek-Místek
END:VEVENT
END:VCALENDAR
