BEGIN:VCALENDAR
VERSION:2.0
PRODID:-//IBSARO - Institut behaviorálních studií s.r.o.
CALSCALE:GREGORIAN
METHOD:PUBLISH
X-WR-CALNAME:IBSARO - Institut behaviorálních studií s.r.o.
X-ORIGINAL-URL:https://ibsaro.cz/event/ki-intervizni-trenink-situaci-v-krizove-intervenci-no-3-2-2/
X-WR-CALDESC:KI+ / Intervizní trénink situací v krizové intervenci (No. 5)
BEGIN:VEVENT
DTSTART:20261127T090000
DTEND:20261127T170000
SUMMARY:KI+ / Intervizní trénink situací v krizové intervenci (No. 5)
DESCRIPTION:
LOCATION:
END:VEVENT
END:VCALENDAR
